BEGIN:VCALENDAR
VERSION:2.0
PRODID:-//Hamilton Aging in Community - ECPv6.15.20//NONSGML v1.0//EN
CALSCALE:GREGORIAN
METHOD:PUBLISH
X-ORIGINAL-URL:https://hamiltonagingtogether.ca
X-WR-CALDESC:Events for Hamilton Aging in Community
REFRESH-INTERVAL;VALUE=DURATION:PT1H
X-Robots-Tag:noindex
X-PUBLISHED-TTL:PT1H
BEGIN:VTIMEZONE
TZID:UTC
BEGIN:STANDARD
TZOFFSETFROM:+0000
TZOFFSETTO:+0000
TZNAME:UTC
DTSTART:20170101T000000
END:STANDARD
END:VTIMEZONE
BEGIN:VEVENT
DTSTART;TZID=UTC:20180207T130000
DTEND;TZID=UTC:20180207T140000
DTSTAMP:20260423T002359
CREATED:20170916T194835Z
LAST-MODIFIED:20171122T210346Z
UID:447-1518008400-1518012000@hamiltonagingtogether.ca
SUMMARY:Dementia care for Indigenous Communities in Canada
DESCRIPTION:Kristen Jacklin\, University of Minnesota Medical School \nExploring appropriate approaches to dementia care for Indigenous communities in Canada \nWEDNESDAY\, FEBRUARY 7\, 2018 – 1:00PM TO 2:00PM \nMcMaster University | Main Campus | L.R. Wilson Hall | Room 1003 \n 
URL:https://hamiltonagingtogether.ca/event/dementia-care-indigenous-communities-canada/
LOCATION:McMaster University | Main Campus | L.R. Wilson Hall | Room 1003\, Hamilton\, Ontario\, Canada
CATEGORIES:Community,Outreach
END:VEVENT
END:VCALENDAR