BEGIN:VCALENDAR
VERSION:2.0
PRODID:-//Hamilton Aging in Community - ECPv6.15.20//NONSGML v1.0//EN
CALSCALE:GREGORIAN
METHOD:PUBLISH
X-WR-CALNAME:Hamilton Aging in Community
X-ORIGINAL-URL:https://hamiltonagingtogether.ca
X-WR-CALDESC:Events for Hamilton Aging in Community
REFRESH-INTERVAL;VALUE=DURATION:PT1H
X-Robots-Tag:noindex
X-PUBLISHED-TTL:PT1H
BEGIN:VTIMEZONE
TZID:UTC
BEGIN:STANDARD
TZOFFSETFROM:+0000
TZOFFSETTO:+0000
TZNAME:UTC
DTSTART:20170101T000000
END:STANDARD
END:VTIMEZONE
BEGIN:VEVENT
DTSTART;VALUE=DATE:20180808
DTEND;VALUE=DATE:20180811
DTSTAMP:20260422T135011
CREATED:20171219T222016Z
LAST-MODIFIED:20171219T222901Z
UID:1742-1533686400-1533945599@hamiltonagingtogether.ca
SUMMARY:International  Federation on Ageing
DESCRIPTION:Aug 8-10\, 2018\, Toronto\, Ontario\nThe International Federation on Ageing 14th Global Conference on Ageing is a unique opportunity for academics\, government\, industry and individuals to present to an engaged audience on some of the key issues effecting older people today.\n\nOral\, poster\, workshop\, and symposium presentations offer presenters the chance to network with some of the key decision makers and experts in the field of ageing.\n\nThe IFA invites all those interested in being a presenter at the IFA 14th Global Conference on Ageing to submit an abstract. The four main conference themes are Combating Ageism\, Toward Healthy Ageing\, Enabling Functional Ability\, and Addressing Inequalities. The themes and 26 sub-themes are displayed above.\nhttps://www.ifa2018.com/ \n&nbsp;
URL:https://hamiltonagingtogether.ca/event/international-federation-ageing/
LOCATION:Toronto\, Canada
CATEGORIES:Conference
ATTACH;FMTTYPE=image/jpeg:https://hamiltonagingtogether.ca/wp-content/uploads/2017/12/InTFedAgeingbanner5_v5_1-e1538352927704.jpg
END:VEVENT
END:VCALENDAR