BEGIN:VCALENDAR
VERSION:2.0
PRODID:-//Hamilton Aging in Community - ECPv6.15.20//NONSGML v1.0//EN
CALSCALE:GREGORIAN
METHOD:PUBLISH
X-ORIGINAL-URL:https://hamiltonagingtogether.ca
X-WR-CALDESC:Events for Hamilton Aging in Community
REFRESH-INTERVAL;VALUE=DURATION:PT1H
X-Robots-Tag:noindex
X-PUBLISHED-TTL:PT1H
BEGIN:VTIMEZONE
TZID:UTC
BEGIN:STANDARD
TZOFFSETFROM:+0000
TZOFFSETTO:+0000
TZNAME:UTC
DTSTART:20180101T000000
END:STANDARD
END:VTIMEZONE
BEGIN:VEVENT
DTSTART;TZID=UTC:20190301T130000
DTEND;TZID=UTC:20190301T150000
DTSTAMP:20260422T010733
CREATED:20190203T012156Z
LAST-MODIFIED:20190204T012900Z
UID:3260-1551445200-1551452400@hamiltonagingtogether.ca
SUMMARY:PA Day Jam Making Class Afternoon
DESCRIPTION:Parent / grandparent / caregiver; are invited to attend with their child and learn together!\n\nChildren under 8 must be accompanied by an adult.\n\nClass size limited.\nPlease register by February 22\, 2019\n\nTo Register contact Grace Lutheran Church:\nphone: 905-527-0877\nemail: info.glchamilton@gmail.com
URL:https://hamiltonagingtogether.ca/event/pa-day-jam-making-classes-2/
LOCATION:Grace Lutheran Church\, 1107 Main St West\, Hamilton\, On\, L8S 1B8\, Canada
CATEGORIES:Community,Intergenerational
ATTACH;FMTTYPE=image/jpeg:https://hamiltonagingtogether.ca/wp-content/uploads/2019/02/Jam-framed-1.jpg
ORGANIZER;CN="Grace Lutheran Church":MAILTO:info.glchamilton@gmail.com
END:VEVENT
BEGIN:VEVENT
DTSTART;TZID=UTC:20190313T100000
DTEND;TZID=UTC:20190313T120000
DTSTAMP:20260422T010733
CREATED:20190226T034137Z
LAST-MODIFIED:20190226T232756Z
UID:3325-1552471200-1552478400@hamiltonagingtogether.ca
SUMMARY:Wellness in the Later Years Workshop
DESCRIPTION:We are living in a society that lives too short and dies too long. \nHow do we live a good quality of life as we age? \nIn this workshop we will explore ideas to help us live a balanced lifestyle for this journey. \nPresenter Debbie Tigchelaar is a Health and Wellness Coach\, who is passionate about helping others reach their full potential in life\, regardless of age or ability! In her presentations\, she brings her own life experience of what it means to live a quality life while living with a chronic disease. In her spare time\, she loves to travel\, cook\, read and go for long walks with friends. \n  \nThe topics she will be addressing in the Workshop: \n  \nBreathing exercises \n  \nWellness Wheel – Why a Balanced life is so important \n  \nBalance exercises – Important for falls prevention \n  \nCooking and eating healthy meals – What does a healthy meal look like? \n  \nWhy Exercise as I get older? \n\nBrain health\nHeart health\nOsteoporosis\n\n  \nFor information\, contact Grace Lutheran Church: 905-527-0877\nor email: info.glchamilton@gmail.com
URL:https://hamiltonagingtogether.ca/event/wellness-later-years-workshop/
LOCATION:Grace Lutheran Church\, 1107 Main St West\, Hamilton\, On\, L8S 1B8\, Canada
CATEGORIES:Aging,Community
ATTACH;FMTTYPE=image/jpeg:https://hamiltonagingtogether.ca/wp-content/uploads/2019/02/Welness-in-Later-years.jpg
END:VEVENT
BEGIN:VEVENT
DTSTART;TZID=UTC:20190314T130000
DTEND;TZID=UTC:20190314T150000
DTSTAMP:20260422T010733
CREATED:20180918T023948Z
LAST-MODIFIED:20190119T183317Z
UID:2355-1552568400-1552575600@hamiltonagingtogether.ca
SUMMARY:Intergenerational Card Making Workshop
DESCRIPTION:Hamilton Aging in Community is hosting a 2 hour intergenerational card making workshop. \n  \n  \nGrandparents and Grandchildren: Making Greeting Cards Together  \nThursday\, March 14th [March Break]\, Ancaster Public Library \n1:00 – 3:00 pm\, \n  \nBring your creativity and imagination\, all supplies will be provided \n  \nIntergenerational Card-Making Project Hamilton Aging Together Writing Group \nEmail Email Ellen Ryan for more details
URL:https://hamiltonagingtogether.ca/event/intergenerational-card-making-workshop-2/
LOCATION:Ancaster Library\, 300 Wilson St E\, Ancaster\, Ontario\, L9G 2B9\, Canada
CATEGORIES:Community,Intergenerational,Writing
ATTACH;FMTTYPE=image/jpeg:https://hamiltonagingtogether.ca/wp-content/uploads/2018/09/Cardmaking-pic-framed.jpg
END:VEVENT
BEGIN:VEVENT
DTSTART;TZID=UTC:20190331T140000
DTEND;TZID=UTC:20190331T160000
DTSTAMP:20260422T010733
CREATED:20190205T004806Z
LAST-MODIFIED:20190314T183031Z
UID:3246-1554040800-1554048000@hamiltonagingtogether.ca
SUMMARY:Trumpeter Swans and their place in mythology
DESCRIPTION:Earth Body Spirit presents local artist Susan Davis speaking on Trumpeter Swans and their place in mythology and our lives. \nOn Sunday\, March 31st at 2 pm Susan Davis\, local artist\, theologian and environmental activist returns  to us to talk about Swans in mythology\, culture and religion. Susan’s art work will be on display in the church. \nJoin us for this free event \n905-527-0877 www.glc.ca
URL:https://hamiltonagingtogether.ca/event/trumpeter-swans-their-place-mythology/
LOCATION:Grace Lutheran Church\, 1107 Main St West\, Hamilton\, On\, L8S 1B8\, Canada
CATEGORIES:Community
ATTACH;FMTTYPE=image/jpeg:https://hamiltonagingtogether.ca/wp-content/uploads/2019/02/Swans-framed.jpg
END:VEVENT
END:VCALENDAR