BEGIN:VCALENDAR
VERSION:2.0
PRODID:-//Hamilton Aging in Community - ECPv6.15.20//NONSGML v1.0//EN
CALSCALE:GREGORIAN
METHOD:PUBLISH
X-WR-CALNAME:Hamilton Aging in Community
X-ORIGINAL-URL:https://hamiltonagingtogether.ca
X-WR-CALDESC:Events for Hamilton Aging in Community
REFRESH-INTERVAL;VALUE=DURATION:PT1H
X-Robots-Tag:noindex
X-PUBLISHED-TTL:PT1H
BEGIN:VTIMEZONE
TZID:UTC
BEGIN:STANDARD
TZOFFSETFROM:+0000
TZOFFSETTO:+0000
TZNAME:UTC
DTSTART:20180101T000000
END:STANDARD
END:VTIMEZONE
BEGIN:VEVENT
DTSTART;TZID=UTC:20190401T133000
DTEND;TZID=UTC:20190401T153000
DTSTAMP:20260421T230632
CREATED:20190117T222721Z
LAST-MODIFIED:20190118T183817Z
UID:2016-1554125400-1554132600@hamiltonagingtogether.ca
SUMMARY:Artful Moments with Dementia
DESCRIPTION:The Art Gallery of Hamilton is proud to have partnered with St. Peter’s Hospital and Foundation for Artful Moments\, a unique program that makes art more accessible\, experiential and enjoyable for people with dementia and their caregivers. \n  \n2019 PROGRAM DETAILS \nDATES: Mondays\, January 28\, February 4\, 11\, 25\, March 4\, 18; 1:30 – 3:30 pm \nSeries One: January 28\, February 4\, 11\, 25\, March 4\, 18\nSeries Two: April 1\, 8\, 15\, 29\, May 6\, 13\nSeries Three: May 27\, June 3\, 10\, 17\, 24\, July 8\nSeries Four: September 23\, 30\, October 7\, 21\, 28\, November 4 \n  \nCOST: for each series of six sessions \nAGH Members: $50 per series\nGeneral: $60 per series\nSubsidies are available for those in need of financial assistance.  Please email access@artgalleryofhamilton.com for details. \nFor this fee the person can also bring along a guest (family member/friend/caregiver) if they would like \n  \nSpaces are limited.  Pre-registration is required.  \n  \nFree Trial: Join us for one or join us for all! Come for a free trial visit before you commit to a full-session. Due to space limitations please call ahead to book your trial: (905) 527-6610 ext. 272 \n  \nSTAFF: Please note that our program staff have training and experience in working with persons with dementia\, however we will not be able to support participants with more advanced needs (such as toileting).  For this reason\, we strongly encourage participants to come with a support person. \nThere will be no additional attendance charge for the support person. \n  \nACCESSIBILITY: Wheelchairs are available for participant use.\n\nPARKING: The AGH is attached to a Municipal underground parking garage located on Summer’s Lane off of Main Street East. Parking rates are set by the City of Hamilton. Please contact the Hamilton\nMunicipal Parking System Office for rates.
URL:https://hamiltonagingtogether.ca/event/artful-moments-with-dementia-3/
LOCATION:Art Gallery of Hamilton\, 123 King Street West\, Hamilton\, On\, L8P 4S8\, Canada
CATEGORIES:Community,Mental Health
ATTACH;FMTTYPE=image/jpeg:https://hamiltonagingtogether.ca/wp-content/uploads/2019/01/Header-Learn-Wellness-Through-Art-Artful-Moments-framed.jpg
END:VEVENT
BEGIN:VEVENT
DTSTART;TZID=UTC:20190416T180000
DTEND;TZID=UTC:20190416T200000
DTSTAMP:20260421T230632
CREATED:20190409T220540Z
LAST-MODIFIED:20190409T221012Z
UID:3444-1555437600-1555444800@hamiltonagingtogether.ca
SUMMARY:McMaster Symbiosis Senior-Student Co-housing Program – ANNUAL MIXER
DESCRIPTION:Where? \nFirst Unitarian Church of Hamilton (Fellowship Hall) \n  \nLight supper will be served.  \nFree parking on site.  \nWheelchair accessible. \n  \nFor more information about the program\, please visit Symbiosis \nPlease RSVP here at Eventbrite \n  \nQuestions? \nContact us by email: symbiosiscohousing@gmail.com \nor by phone at 647-648-4421.
URL:https://hamiltonagingtogether.ca/event/mcmaster-symbiosis-senior-student-co-housing-program-annual-mixer/
LOCATION:First Unitarian Church\, Hamilton\, 170 Dundurn St S\, Hamilton\, ON\, L8P 4K3\, Canada
CATEGORIES:Intergenerational
ATTACH;FMTTYPE=image/jpeg:https://hamiltonagingtogether.ca/wp-content/uploads/2019/04/symbiosis-framed.jpg
END:VEVENT
BEGIN:VEVENT
DTSTART;TZID=UTC:20190425T190000
DTEND;TZID=UTC:20190425T203000
DTSTAMP:20260421T230632
CREATED:20190330T180758Z
LAST-MODIFIED:20190330T184317Z
UID:3379-1556218800-1556224200@hamiltonagingtogether.ca
SUMMARY:How to Talk About Death with Your Doctor: Video by Atul Gawande
DESCRIPTION:End of Life Issues – Viewing and Discussion of a Video by Atul Gawande\n“Being Mortal: Medicine and What Matters in the End” \nWe will watch and discuss the video … \nWhile not necessary\, consider reading the book “Being Mortal” ahead of time.  Available through the library or for purchase on Amazon.ca \nSponsor: Grace Lutheran Church and Hamilton Aging in Community \nFacilitator: Pastor Loretta Jaunzarins
URL:https://hamiltonagingtogether.ca/event/how-talk-about-death-with-your-doctor-video-by-atul-gawande/
CATEGORIES:Aging,Caregiving
ATTACH;FMTTYPE=image/jpeg:https://hamiltonagingtogether.ca/wp-content/uploads/2019/04/Being-Mortal-w-frame.jpg
ORGANIZER;CN="Grace Lutheran Church":MAILTO:info.glchamilton@gmail.com
END:VEVENT
BEGIN:VEVENT
DTSTART;TZID=UTC:20190427T140000
DTEND;TZID=UTC:20190427T160000
DTSTAMP:20260421T230632
CREATED:20190409T222539Z
LAST-MODIFIED:20190409T223123Z
UID:3448-1556373600-1556380800@hamiltonagingtogether.ca
SUMMARY:Intergenerational Knitting Class
DESCRIPTION:Grandparents/parents to attend with children.\nChildren under 10 must be accompanied by an adult. \nLimited spaces. \nKnitters welcome\, even without children. \n  \nFor free registration\, contact  905-527-0877; www.glc.ca
URL:https://hamiltonagingtogether.ca/event/intergenerational-knitting-class/
LOCATION:Grace Lutheran Church\, 1107 Main St West\, Hamilton\, On\, L8S 1B8\, Canada
CATEGORIES:Intergenerational
ATTACH;FMTTYPE=image/jpeg:https://hamiltonagingtogether.ca/wp-content/uploads/2019/04/Knitting-framed-2.jpg
END:VEVENT
END:VCALENDAR