BEGIN:VCALENDAR
VERSION:2.0
PRODID:-//Hamilton Aging in Community - ECPv6.15.20//NONSGML v1.0//EN
CALSCALE:GREGORIAN
METHOD:PUBLISH
X-ORIGINAL-URL:https://hamiltonagingtogether.ca
X-WR-CALDESC:Events for Hamilton Aging in Community
REFRESH-INTERVAL;VALUE=DURATION:PT1H
X-Robots-Tag:noindex
X-PUBLISHED-TTL:PT1H
BEGIN:VTIMEZONE
TZID:UTC
BEGIN:STANDARD
TZOFFSETFROM:+0000
TZOFFSETTO:+0000
TZNAME:UTC
DTSTART:20180101T000000
END:STANDARD
END:VTIMEZONE
BEGIN:VEVENT
DTSTART;TZID=UTC:20190508T190000
DTEND;TZID=UTC:20190508T200000
DTSTAMP:20260421T211722
CREATED:20190409T215303Z
LAST-MODIFIED:20190409T215839Z
UID:3438-1557342000-1557345600@hamiltonagingtogether.ca
SUMMARY:Healthy Brains – Alzheimer Society
DESCRIPTION:A free presentation on how memory changes with aging and how to maintain a healthy brain. \nRSVP (905) 627-3043 or knoxconnections@gmail.com
URL:https://hamiltonagingtogether.ca/event/healthy-brains-alzheimer-society/
LOCATION:Knox Presbyterian Church\, 23 Melville Street\, Dundas\, Ontario\, L9H 1Z7\, Canada
CATEGORIES:Community,Mental Health
ATTACH;FMTTYPE=image/jpeg:https://hamiltonagingtogether.ca/wp-content/uploads/2019/04/Alz-1-framed-2.jpg
END:VEVENT
BEGIN:VEVENT
DTSTART;TZID=UTC:20190525T140000
DTEND;TZID=UTC:20190525T160000
DTSTAMP:20260421T211722
CREATED:20190410T005927Z
LAST-MODIFIED:20190409T224445Z
UID:3253-1558792800-1558800000@hamiltonagingtogether.ca
SUMMARY:Intergenerational Preserving Class
DESCRIPTION:Come learn to preserve fruits and vegetables\n\nParent / grandparent / caregiver; are invited to attend with their child and learn together!\n\nChildren under 10 must be accompanied by an adult.\n\n\n\nLimited spaces. \n\n\nFor free registration\, contact  905-527-0877; www.glc.ca\nemail: info.glchamilton@gmail.com
URL:https://hamiltonagingtogether.ca/event/intergenerational-preservingclass/
LOCATION:Grace Lutheran Church\, 1107 Main St West\, Hamilton\, On\, L8S 1B8\, Canada
CATEGORIES:Community,Intergenerational
ATTACH;FMTTYPE=image/jpeg:https://hamiltonagingtogether.ca/wp-content/uploads/2019/04/baby-canning-framed.jpg
ORGANIZER;CN="Grace Lutheran Church":MAILTO:info.glchamilton@gmail.com
END:VEVENT
BEGIN:VEVENT
DTSTART;TZID=UTC:20190527T133000
DTEND;TZID=UTC:20190527T153000
DTSTAMP:20260421T211722
CREATED:20190118T162536Z
LAST-MODIFIED:20190118T182924Z
UID:1970-1558963800-1558971000@hamiltonagingtogether.ca
SUMMARY:Artful Moments with Dementia
DESCRIPTION:The Art Gallery of Hamilton is proud to have partnered with St. Peter’s Hospital and Foundation for Artful Moments\, a unique program that makes art more accessible\, experiential and enjoyable for people with dementia and their caregivers. \n  \n2019 PROGRAM DETAILS \nDATES: Mondays\, January 28\, February 4\, 11\, 25\, March 4\, 18; 1:30 – 3:30 pm \nSeries One: January 28\, February 4\, 11\, 25\, March 4\, 18\nSeries Two: April 1\, 8\, 15\, 29\, May 6\, 13\nSeries Three: May 27\, June 3\, 10\, 17\, 24\, July 8\nSeries Four: September 23\, 30\, October 7\, 21\, 28\, November 4 \n  \nCOST: for each series of six sessions \nAGH Members: $50 per series\nGeneral: $60 per series\nSubsidies are available for those in need of financial assistance.  Please email access@artgalleryofhamilton.com for details. \nFor this fee the person can also bring along a guest (family member/friend/caregiver) if they would like \n  \nSpaces are limited.  Pre-registration is required.  \n  \nFree Trial: Join us for one or join us for all! Come for a free trial visit before you commit to a full-session. Due to space limitations please call ahead to book your trial: (905) 527-6610 ext. 272 \n  \nSTAFF: Please note that our program staff have training and experience in working with persons with dementia\, however we will not be able to support participants with more advanced needs (such as toileting).  For this reason\, we strongly encourage participants to come with a support person. \nThere will be no additional attendance charge for the support person. \n  \nACCESSIBILITY: Wheelchairs are available for participant use.\n\nPARKING: The AGH is attached to a Municipal underground parking garage located on Summer’s Lane off of Main Street East. Parking rates are set by the City of Hamilton. Please contact the Hamilton\nMunicipal Parking System Office for rates.
URL:https://hamiltonagingtogether.ca/event/artful-moments-with-dementia-2/
LOCATION:Art Gallery of Hamilton\, 123 King Street West\, Hamilton\, On\, L8P 4S8\, Canada
CATEGORIES:Community,Mental Health
ATTACH;FMTTYPE=image/jpeg:https://hamiltonagingtogether.ca/wp-content/uploads/2019/01/Header-Learn-Wellness-Through-Art-Artful-Moments-framed.jpg
END:VEVENT
BEGIN:VEVENT
DTSTART;TZID=UTC:20190529T100000
DTEND;TZID=UTC:20190529T140000
DTSTAMP:20260421T211722
CREATED:20190411T215531Z
LAST-MODIFIED:20190412T160534Z
UID:2009-1559124000-1559138400@hamiltonagingtogether.ca
SUMMARY:Hamilton Seniors 2019 Kickoff
DESCRIPTION:You are invited to participate in Hamilton’s 2019 Seniors Kickoff Event\nCelebrating seniors and older adults in Hamilton.\nEveryone is welcome!  This is a free drop-in event.       No registration is required. \n  \n\n\n\n\n\n80+ exhibits demonstrating \n\nhealth\nsafety & social services information\nseminars\ndemonstrations\nrefreshments\nlive entertainment!\n\n  \nSponsors:  Older Adult Network of Hamilton (OAN) and Hamilton Council on Aging \n  \nFor information: \nGo to Hamilton Council on Aging \nor email hamiltonseniorskickoff@gmail.com \nor contact Shelagh Kiely at 905-777-3837 ext. 12434.
URL:https://hamiltonagingtogether.ca/event/hamilton-seniors-2019-kickoff/
LOCATION:Michelangelo Banquet Centre\, 1555 Upper Ottawa St.\, Hamilton\, On\, L8W3E2\, Canada
CATEGORIES:Aging,Caregiving,Community,Health and Healing,Mental Health
ATTACH;FMTTYPE=image/jpeg:https://hamiltonagingtogether.ca/wp-content/uploads/2018/05/Seniors-Kick-off-2019-framed.jpg
ORGANIZER;CN="City of Hamilton":MAILTO:lisa.maychak@hamilton.ca
END:VEVENT
END:VCALENDAR