BEGIN:VCALENDAR
VERSION:2.0
PRODID:-//Hamilton Aging in Community - ECPv6.15.20//NONSGML v1.0//EN
CALSCALE:GREGORIAN
METHOD:PUBLISH
X-WR-CALNAME:Hamilton Aging in Community
X-ORIGINAL-URL:https://hamiltonagingtogether.ca
X-WR-CALDESC:Events for Hamilton Aging in Community
REFRESH-INTERVAL;VALUE=DURATION:PT1H
X-Robots-Tag:noindex
X-PUBLISHED-TTL:PT1H
BEGIN:VTIMEZONE
TZID:UTC
BEGIN:STANDARD
TZOFFSETFROM:+0000
TZOFFSETTO:+0000
TZNAME:UTC
DTSTART:20180101T000000
END:STANDARD
END:VTIMEZONE
BEGIN:VEVENT
DTSTART;TZID=UTC:20190702T093000
DTEND;TZID=UTC:20190823T113000
DTSTAMP:20260421T173554
CREATED:20190728T162731Z
LAST-MODIFIED:20190729T164733Z
UID:3621-1562059800-1566559800@hamiltonagingtogether.ca
SUMMARY:Intergenerational Supie Program
DESCRIPTION:Tuesdays and Thursday\, 9:30am – 11:30am – July 2 to August 23 \nCome out to enjoy a morning of playing games\, making crafts and maybe learning something new. Continue the fun in the afternoon and join the supie in the park at Sackville Hill. All participants under the age of 55 are to be accompanied by an adult over the age of 55. \nChildren must be accompanied by a 55+ patron. \nThis is an active program\, please wear running shoes. Special Guests \n  \nContact: Sackville Hill Seniors’ Centre at 905-546-2541
URL:https://hamiltonagingtogether.ca/event/intergenerational-supie-program/
LOCATION:Sackville Hill Seniors Centre\, 780 Upper Wentworth\, Hamilton\, Ontario\, L9A4V5\, Canada
CATEGORIES:Community,Creativity,Intergenerational
ATTACH;FMTTYPE=image/jpeg:https://hamiltonagingtogether.ca/wp-content/uploads/2019/07/Supie-Framed.jpg
END:VEVENT
END:VCALENDAR