BEGIN:VCALENDAR
VERSION:2.0
PRODID:-//Hamilton Aging in Community - ECPv6.15.20//NONSGML v1.0//EN
CALSCALE:GREGORIAN
METHOD:PUBLISH
X-ORIGINAL-URL:https://hamiltonagingtogether.ca
X-WR-CALDESC:Events for Hamilton Aging in Community
REFRESH-INTERVAL;VALUE=DURATION:PT1H
X-Robots-Tag:noindex
X-PUBLISHED-TTL:PT1H
BEGIN:VTIMEZONE
TZID:America/New_York
BEGIN:DAYLIGHT
TZOFFSETFROM:-0500
TZOFFSETTO:-0400
TZNAME:EDT
DTSTART:20180311T070000
END:DAYLIGHT
BEGIN:STANDARD
TZOFFSETFROM:-0400
TZOFFSETTO:-0500
TZNAME:EST
DTSTART:20181104T060000
END:STANDARD
BEGIN:DAYLIGHT
TZOFFSETFROM:-0500
TZOFFSETTO:-0400
TZNAME:EDT
DTSTART:20190310T070000
END:DAYLIGHT
BEGIN:STANDARD
TZOFFSETFROM:-0400
TZOFFSETTO:-0500
TZNAME:EST
DTSTART:20191103T060000
END:STANDARD
BEGIN:DAYLIGHT
TZOFFSETFROM:-0500
TZOFFSETTO:-0400
TZNAME:EDT
DTSTART:20200308T070000
END:DAYLIGHT
BEGIN:STANDARD
TZOFFSETFROM:-0400
TZOFFSETTO:-0500
TZNAME:EST
DTSTART:20201101T060000
END:STANDARD
END:VTIMEZONE
BEGIN:VTIMEZONE
TZID:UTC
BEGIN:STANDARD
TZOFFSETFROM:+0000
TZOFFSETTO:+0000
TZNAME:UTC
DTSTART:20180101T000000
END:STANDARD
END:VTIMEZONE
BEGIN:VEVENT
DTSTART;TZID=America/New_York:20191121T110000
DTEND;TZID=America/New_York:20191121T123000
DTSTAMP:20260421T103119
CREATED:20191024T024405Z
LAST-MODIFIED:20191024T024504Z
UID:3735-1574334000-1574339400@hamiltonagingtogether.ca
SUMMARY:Co-Ownership and Home Sharing\, Part 3 - Finding the Right Housemate
DESCRIPTION:Co-Ownership and Home Sharing\, Part 3 – Finding the Right Housemate\n           Date: Thursday\, November 21\, 11:00am -12:30pm\n           Location: Grace Lutheran Church\, 1107 Main Street West\, Hamilton\n           Facilitator: Judy Shepalo\n           Sponsor: Hamilton Aging in Community  \n         There is no fee and you do not have to have attended Parts 1 and 2.\n        Light refreshments will be served.\n 
URL:https://hamiltonagingtogether.ca/event/co-ownership-and-home-sharing-part-3-finding-the-right-housemate/
LOCATION:Grace Lutheran Church\, 1107 Main St West\, Hamilton\, On\, L8S 1B8\, Canada
CATEGORIES:Aging,Community,Housing
ATTACH;FMTTYPE=image/jpeg:https://hamiltonagingtogether.ca/wp-content/uploads/2019/03/Kawartha-Commons-logo.jpg
END:VEVENT
BEGIN:VEVENT
DTSTART;TZID=UTC:20191128T100000
DTEND;TZID=UTC:20191128T113000
DTSTAMP:20260421T103119
CREATED:20191117T204532Z
LAST-MODIFIED:20191117T204532Z
UID:3757-1574935200-1574940600@hamiltonagingtogether.ca
SUMMARY:Senior Walk: Ancaster Tree Walk
DESCRIPTION:Senior Walk: Ancaster Tree Walk\nDate: Thursday\, November 28\nTime: 10:00am – 11:30am\nLocation: Meet at Sammy’s Restaurant\, 2 Cameron Drive\, Ancaster\nSponsors: Iroquoia-Bruce Trail\, Hamilton Conservation Authority\, Hamilton Aging in Community\nA leisurely walk of 3-4 km through one of Ancaster’s older neighbourhoods. We will be walking on sidewalks & side streets that are bounded on three sides by the Hamilton Golf and Country Club\, Wilson Street and Fiddler’s Green Road. We’ll look at a neighbourhood in transition with a focus on architecture and older trees\, and talk about Hamilton’s new Urban Forest Strategy. Led by an area resident and City of Hamilton resources staff. Cancelled if storming or high winds. \nFor more information: contact Bron\, brontreg@cogeco.ca\,  905-637-7136.\nFor more walks\, check out:  https://www.iroquoia.on.ca/
URL:https://hamiltonagingtogether.ca/event/senior-walk-ancaster/
LOCATION:Sammy’s Restaurant\, 2 Cameron Drive\, Ancaster\, Ontario\, Canada
CATEGORIES:Aging,Community
ATTACH;FMTTYPE=image/jpeg:https://hamiltonagingtogether.ca/wp-content/uploads/2019/07/2.jpg
END:VEVENT
BEGIN:VEVENT
DTSTART;TZID=UTC:20191128T190000
DTEND;TZID=UTC:20191128T210000
DTSTAMP:20260421T103119
CREATED:20190823T193654Z
LAST-MODIFIED:20190823T202557Z
UID:3666-1574967600-1574974800@hamiltonagingtogether.ca
SUMMARY:Thriving Beyond Mid-Life
DESCRIPTION:Fall 2019 Learning Series \nMichelle Gold is a baby boomer\, with a keen interest in positive aging. \nFive years ago Michelle had her own ah-ha moment about ‘what to do next’ and her presentation focuses on the key elements to thriving in our modern age. She has enjoyed a broad-based career in health and human services\, including having an influential role placing mental health on the public policy agenda. \nThe evening ends with a guided meditation by yoga instructor Dina Pereira of Breathing Space Yoga.
URL:https://hamiltonagingtogether.ca/event/thriving-beyond-mid-life/
LOCATION:Grace Lutheran Church\, 1107 Main St West\, Hamilton\, On\, L8S 1B8\, Canada
CATEGORIES:Aging,Creativity,Mental Health
ATTACH;FMTTYPE=image/jpeg:https://hamiltonagingtogether.ca/wp-content/uploads/2019/08/Michelle-Gold-framed.jpg
END:VEVENT
END:VCALENDAR