BEGIN:VCALENDAR
VERSION:2.0
PRODID:-//Hamilton Aging in Community - ECPv6.15.20//NONSGML v1.0//EN
CALSCALE:GREGORIAN
METHOD:PUBLISH
X-ORIGINAL-URL:https://hamiltonagingtogether.ca
X-WR-CALDESC:Events for Hamilton Aging in Community
REFRESH-INTERVAL;VALUE=DURATION:PT1H
X-Robots-Tag:noindex
X-PUBLISHED-TTL:PT1H
BEGIN:VTIMEZONE
TZID:UTC
BEGIN:STANDARD
TZOFFSETFROM:+0000
TZOFFSETTO:+0000
TZNAME:UTC
DTSTART:20190101T000000
END:STANDARD
END:VTIMEZONE
BEGIN:VEVENT
DTSTART;TZID=UTC:20200109T100000
DTEND;TZID=UTC:20200109T113000
DTSTAMP:20260421T070925
CREATED:20191220T172544Z
LAST-MODIFIED:20191220T172544Z
UID:4002-1578564000-1578569400@hamiltonagingtogether.ca
SUMMARY:Senior Walk: Hamilton Harbour and Bayfront Waterfront Trail
DESCRIPTION:Senior Walk: Hamilton Harbour and Bayfront Waterfront Trail\nDate: Thursday\, January 9\, 2020\nTime: 10:00am – 11:30am\nLocation: Starting at 200 Harbour Front Drive\, Hamilton\nSponsors: Iroquoia-Bruce Trail\, Hamilton Conservation Authority\, Hamilton Aging in Community\n\nJoin us as guest leader Christine Bowen from Bay Area Restoration Park (BARC) takes us on a leisurely interpretive walk on the loop around Bayfront Park. 2-3 km. Paved trail. Christine will update us on the issues and restoration projects that are happing in the area. Learn about the challenges of the Remedial Action Plan to help clean our harbour waters. Christine is very knowledgeable and you can ask all the questions you like about the wildlife including invasive species like Common Carp and Phragmites that live in the area and what steps are being taken to control them. Optional stop at Williams Cafe. \nThis is a paved path that can be tricky if snow or ice covered. Wear boots with icers and bring poles if you have them. It can be chilly by the bay so dress warm. Bring water and snacks. Cancelled in inclement weather. Registration not required but if you want to let me know you’re coming I can inform you if walk is cancelled. Come at 9:45 am for sign up and we’ll leave promptly at 10AM. \n\nFor more information\, contact:\nBron at brontreg@cogeco.ca\nPhone 905-637-7136\nCell with text for day of hike 905-334-4013\nClick here to see the event page. \n\nGo to our Hike Calendar on our website for more hikes and information https://www.iroquoia.on.ca/
URL:https://hamiltonagingtogether.ca/event/senior-walk-hamilton-harbour-and-waterfront/
LOCATION:200 Harbour Front Drive\, 200 Harbour Front Drive\, Hamilton\, Ontario\, Canada
CATEGORIES:Aging,Community,Health and Healing
ATTACH;FMTTYPE=image/jpeg:https://hamiltonagingtogether.ca/wp-content/uploads/2019/12/body-of-water-1533727.jpg
END:VEVENT
END:VCALENDAR