BEGIN:VCALENDAR
VERSION:2.0
PRODID:-//Hamilton Aging in Community - ECPv6.15.20//NONSGML v1.0//EN
CALSCALE:GREGORIAN
METHOD:PUBLISH
X-WR-CALNAME:Hamilton Aging in Community
X-ORIGINAL-URL:https://hamiltonagingtogether.ca
X-WR-CALDESC:Events for Hamilton Aging in Community
REFRESH-INTERVAL;VALUE=DURATION:PT1H
X-Robots-Tag:noindex
X-PUBLISHED-TTL:PT1H
BEGIN:VTIMEZONE
TZID:UTC
BEGIN:STANDARD
TZOFFSETFROM:+0000
TZOFFSETTO:+0000
TZNAME:UTC
DTSTART:20190101T000000
END:STANDARD
END:VTIMEZONE
BEGIN:VEVENT
DTSTART;TZID=UTC:20200305T100000
DTEND;TZID=UTC:20200305T113000
DTSTAMP:20260421T033453
CREATED:20200219T030124Z
LAST-MODIFIED:20200219T030124Z
UID:4337-1583402400-1583407800@hamiltonagingtogether.ca
SUMMARY:Senior Walk: Hamilton Cemetery - Learn About Lichen
DESCRIPTION:Learn about Lichen\nDate: Thursday\, March 5\nTime: 10am – 11:30am\nLocation: Dundurn Castle\, 610 York Blvd\, Hamilton\nSponsors: Iroquoia-Bruce Trail\, Hamilton Conservation Authority\, Hamilton Aging in Community\n\nWalk Type: Gentle pace over mostly flat grass or snow-covered area. 2-3 km. \nJoin Carolyn Zanchetta\, HNC Stewardship & Education Coordinator on a gentle walk around Hamilton Cemetery. Discover the unique world of lichen and what it can tell us about air quality. Often undetected and unassuming\, lichen can be found growing anywhere. Throughout Hamilton we can see crustose lichen coating park benches\, colourful foliose lichen peeling up off tree trunks\, squamulose lichen at the base of an old tree\, or even fruiticose lichen stretching off the branches. As they are sensitive to pollutants\, they can also tell us a lot about the air quality where they grow\, or simply by their presence or absence. We’ll look for these often overlooked organisms on Hamilton Cemetery stones and trees. \nMeet at Dundurn Castle parking lot by the stop lights at far end.  Bring snacks and water and dress warm as we’ll be making several stops to look at lichen.  Might be some mud or icy so wear good boots and bring icers and poles if you have them.  Optional stop after for coffee. \nContact:  Bron at brontreg@cogeco.ca or 905-334-4013 (with text for day of hike) for more information. Cancelled in inclement weather.  
URL:https://hamiltonagingtogether.ca/event/senior-walk-hamilton-cemetery-learn-about-lichen/
LOCATION:Hamilton Cemetery\, 777 York Blvd\, Hamilton\, Ontario\, L8R 2A4\, Canada
CATEGORIES:Aging,Community
ATTACH;FMTTYPE=image/jpeg:https://hamiltonagingtogether.ca/wp-content/uploads/2020/02/gray-concrete-stone-with-green-mold-977956.jpg
END:VEVENT
BEGIN:VEVENT
DTSTART;TZID=UTC:20200312T140000
DTEND;TZID=UTC:20200312T153000
DTSTAMP:20260421T033453
CREATED:20200228T175613Z
LAST-MODIFIED:20200228T175613Z
UID:4394-1584021600-1584027000@hamiltonagingtogether.ca
SUMMARY:Cohousing Hamilton
DESCRIPTION:COHOUSING HAMILTON\nFind out WHAT it is\, WHERE it will be\, WHY people will live there\, WHO will live there & WHEN it will be built.\n\nDATE: THURSDAY\, MARCH 12\, 2020 \nTIME: 2:00 to 3:30; 6:30 to 8:00 \nLOCATION: GRACE LUTHERAN CHURCH HALL \n1107 MAIN STREET WEST\, HAMILTON \n(Parking is off Cline Ave next to Grace Hall\, the building with double doors) \n\n\nCOHOUSING is a form of intentional community for older adults or intergenerational living where people decide to create a neighbourhood that combines the autonomy of privately owned individual dwellings with the advantages of shared resources and community living. Co-developed\, co-designed and managed by the residents\, a cohousing community typically consists of between 10 and 35 dwelling units\, plus common space. Such a community will suit those looking for alternative living arrangements that are innovative rather than conventional and provide an opportunity to actively create their own neighbourhood. \nWhat’s not to like? Along with a recently formed steering committee\, we’re pleased to have retained the services of Cohousing Options Canada to help us navigate the path to establishing the first Cohousing Community in Hamilton. The event will be held at two different times on the same day. \nThe presentation will include a half hour video by Charles Durrett\, the architect who brought cohousing to North America from Denmark in the 1980s. If you’re interested in reading up on Cohousing\, Charles Durrett wrote a book called The Senior Cohousing Handbook\, A Community Approach to Independent Living\, second edition. \n\n\nThere is no cost but I would ask that you RSVP so I have an idea of numbers. \nPlease share this information with anyone you think might be interested in learning about living in a cohousing community and its many advantages. And feel free to contact Judy Shepalo if you have any questions ahead of time. \nJudy | 905-517-6494 | jshepalo@gmail.com
URL:https://hamiltonagingtogether.ca/event/cohousing-hamilton/
LOCATION:Grace Lutheran Church\, 1107 Main St West\, Hamilton\, On\, L8S 1B8\, Canada
CATEGORIES:Aging,Community,Housing,Intergenerational
ATTACH;FMTTYPE=image/jpeg:https://hamiltonagingtogether.ca/wp-content/uploads/2020/02/image-asset.jpeg
END:VEVENT
BEGIN:VEVENT
DTSTART;TZID=UTC:20200312T183000
DTEND;TZID=UTC:20200312T200000
DTSTAMP:20260421T033453
CREATED:20200228T180115Z
LAST-MODIFIED:20200228T180115Z
UID:4411-1584037800-1584043200@hamiltonagingtogether.ca
SUMMARY:Cohousing Hamilton
DESCRIPTION:COHOUSING HAMILTON\nFind out WHAT it is\, WHERE it will be\, WHY people will live there\, WHO will live there & WHEN it will be built.\n\nDATE: THURSDAY\, MARCH 12\, 2020 \nTIME: 2:00 to 3:30; 6:30 to 8:00pm \nLOCATION: GRACE LUTHERAN CHURCH HALL \n1107 MAIN STREET WEST\, HAMILTON \n(Parking is off Cline Ave next to Grace Hall\, the building with double doors) \n\n\nCOHOUSING is a form of intentional community for older adults or intergenerational living where people decide to create a neighbourhood that combines the autonomy of privately owned individual dwellings with the advantages of shared resources and community living. Co-developed\, co-designed and managed by the residents\, a cohousing community typically consists of between 10 and 35 dwelling units\, plus common space. Such a community will suit those looking for alternative living arrangements that are innovative rather than conventional and provide an opportunity to actively create their own neighbourhood. \nWhat’s not to like? Along with a recently formed steering committee\, we’re pleased to have retained the services of Cohousing Options Canada to help us navigate the path to establishing the first Cohousing Community in Hamilton. The event will be held at two different times on the same day. \nThe presentation will include a half hour video by Charles Durrett\, the architect who brought cohousing to North America from Denmark in the 1980s. If you’re interested in reading up on Cohousing\, Charles Durrett wrote a book called The Senior Cohousing Handbook\, A Community Approach to Independent Living\, second edition. \n\n\nThere is no cost but I would ask that you RSVP so I have an idea of numbers. \nPlease share this information with anyone you think might be interested in learning about living in a cohousing community and its many advantages. And feel free to contact Judy Shepalo if you have any questions ahead of time. \nJudy | 905-517-6494 | jshepalo@gmail.com
URL:https://hamiltonagingtogether.ca/event/cohousing-hamilton-2/
LOCATION:Grace Lutheran Church\, 1107 Main St West\, Hamilton\, On\, L8S 1B8\, Canada
CATEGORIES:Aging,Community,Housing
ATTACH;FMTTYPE=image/jpeg:https://hamiltonagingtogether.ca/wp-content/uploads/2020/02/image-asset.jpeg
END:VEVENT
BEGIN:VEVENT
DTSTART;TZID=UTC:20200313T133000
DTEND;TZID=UTC:20200313T160000
DTSTAMP:20260421T033453
CREATED:20200119T230238Z
LAST-MODIFIED:20200119T230238Z
UID:4175-1584106200-1584115200@hamiltonagingtogether.ca
SUMMARY:HPO Musical Moments
DESCRIPTION:Date: Friday\, March 13\, 1:30pm – 4:00pm \nLocation: FirstOntario Concert Hall\, Stage Door (10 MacNab Street South\, Hamilton) \nThe Hamilton Philharmonic Orchestra is offering a specially designed program to make orchestral music more accessible for people living with dementia. \nThis program invites participants living with early-stage dementia to a 45-minute portion of an HPO rehearsal featuring Rimsky-Korsakov’s Scheherazade followed by a discussion about the composer and music at FirstOntario Concert Hall. Feel free to bring a family member or friend. \nMusical Moments is part of the HPO’s Wellbeing initiative. Light refreshments will be provided. This event is free of charge. Musical Moments will also occur on Friday\, February 14\, 1:30pm – 4:00pm. Please click here to see the event page for February 14th. \nTo reserve a spot please contact Courtney Prizrenac:\ncprizrenac@hpo.org | 905.526.1677 x203 \nClick here to see the event flyer.
URL:https://hamiltonagingtogether.ca/event/hpo-musical-moments-mar/
LOCATION:FirstOntario Concert Hall\, Stage Door\, 10 MacNab Street South\, Hamilton\, Ontario\, L8P 4Y7\, Canada
CATEGORIES:Aging,Community,Creativity
ATTACH;FMTTYPE=image/jpeg:https://hamiltonagingtogether.ca/wp-content/uploads/2020/01/musical-moments.jpg
END:VEVENT
BEGIN:VEVENT
DTSTART;TZID=UTC:20200314T140000
DTEND;TZID=UTC:20200314T160000
DTSTAMP:20260421T033453
CREATED:20200301T203447Z
LAST-MODIFIED:20200312T141549Z
UID:4418-1584194400-1584201600@hamiltonagingtogether.ca
SUMMARY:POSTPONED - Healthy Brains and Board Games
DESCRIPTION:POSTPONED\nDue to recent escalations in concerns regarding COVID-19\, Hamilton Aging in Community has decided to CANCEL the board game event originally intended to take place on March 14th. \nDate: March 14\, 2020\nTime: 2 – 4pm\nLocation: 1107 Main St. West.\, Hamilton \n\nCome join our inclusive and accessible game group. Anyone over the age of 14 is encouraged to join us to play games in a safe\, non-judgmental atmosphere. Try out new and familiar games from our wide selection or bring your own! \nFor more information\, visit hamiltonagingtogether.ca/events or contact info.glchamilton@gmail.com.
URL:https://hamiltonagingtogether.ca/event/healthy-brains-and-board-games/
LOCATION:Grace Lutheran Church\, 1107 Main St West\, Hamilton\, On\, L8S 1B8\, Canada
ATTACH;FMTTYPE=image/jpeg:https://hamiltonagingtogether.ca/wp-content/uploads/2019/12/board-game-event-pic1.jpg
END:VEVENT
BEGIN:VEVENT
DTSTART;TZID=UTC:20200314T193000
DTEND;TZID=UTC:20200314T193000
DTSTAMP:20260421T033453
CREATED:20200219T035159Z
LAST-MODIFIED:20200219T035159Z
UID:4364-1584214200-1584214200@hamiltonagingtogether.ca
SUMMARY:HPO Seniors Connect
DESCRIPTION:Seniors Connect: Haydn’s London\nDate: Saturday\, March 14\nTime: 7:30pm\nLocation: FirstOntario Concert Hall\, Stage Door (10 MacNab Street South\, Hamilton)\n \nSome seniors wish to attend an HPO concert but don’t want to come alone or struggle to get to the concert hall. Seniors Connect is a program that provides a friendly and supportive environment for seniors to join their peers at HPO mainstage concerts at FirstOntario Concert Hall (formerly Hamilton Place). Participating seniors and volunteers meet before concerts to build relationships and connect over a shared pastime. Financial assistance is made available for ticket purchases and transportation\, if necessary. \nTickets for Purchase: Please contact Stephanie Laporte at slaporte@hpo.org or phone 905-526-1677 x230 for more information and tickets.
URL:https://hamiltonagingtogether.ca/event/hpo-seniors-connect/
LOCATION:FirstOntario Concert Hall\, Stage Door\, 10 MacNab Street South\, Hamilton\, Ontario\, L8P 4Y7\, Canada
CATEGORIES:Aging,Community
ATTACH;FMTTYPE=image/jpeg:https://hamiltonagingtogether.ca/wp-content/uploads/2020/01/musical-moments.jpg
END:VEVENT
BEGIN:VEVENT
DTSTART;TZID=UTC:20200316T143000
DTEND;TZID=UTC:20200316T153000
DTSTAMP:20260421T033453
CREATED:20200301T204943Z
LAST-MODIFIED:20200301T204943Z
UID:4421-1584369000-1584372600@hamiltonagingtogether.ca
SUMMARY:Grandparents/Grandchildren Making Greeting Cards – March Break
DESCRIPTION:Grandparents/Grandchildren Making Greeting Cards – March Break\nDate: Monday\, March 16\nTime: 2:30 – 3:30pm\nLocation: Ancaster Library\, 300 Wilson Street East\, Ancaster \n\nHamilton Aging in Community is hosting this hour long intergenerational card making workshop. Bring your creativity and imagination\, all supplies will be provided. Feel free to bring old cards to cut up\, family photos and story ideas. Grandparents\, bring your grandkids and other youth for a fun workshop! \nThis is a drop-in event. No registration required. \nSponsor: Ancaster Library & Hamilton Aging in Community\nContact: Ancaster Library\, 905-648-6911
URL:https://hamiltonagingtogether.ca/event/grandparents-grandchildren-making-greeting-cards-march-break/
LOCATION:Ancaster Library\, 300 Wilson St E\, Ancaster\, Ontario\, L9G 2B9\, Canada
CATEGORIES:Community,Intergenerational
ATTACH;FMTTYPE=image/jpeg:https://hamiltonagingtogether.ca/wp-content/uploads/2019/11/Card-Making-Featured-Picture.jpg
END:VEVENT
BEGIN:VEVENT
DTSTART;TZID=UTC:20200325T130000
DTEND;TZID=UTC:20200325T140000
DTSTAMP:20260421T033453
CREATED:20191206T013152Z
LAST-MODIFIED:20191206T013647Z
UID:3979-1585141200-1585144800@hamiltonagingtogether.ca
SUMMARY:Seminar Series | Gilbrea Centre for Studies in Aging
DESCRIPTION:Date: March 25th\, 2020\nTime: 1:00 pm – 2:00 pm\nLocation: McMaster University-Main Campus\, 1280 Main St W\, Hamilton\nLR Wilson Hall\, Room 1003 \n————————————————————————————————————————————– \nIntersectionality\, Gender\, Sexual Orientation\, and caregiving for partners/spouses in later life\nSpeaker: Toni Calasanti\, Professor\, Virginia Tech\n————————————————————————————————————————————– \nThe Gilbrea Centre for Studies in Aging holds an annual seminar series to create opportunities for the exchange of ideas and stimulate discussion.  Everyone is welcome including researchers\, graduate and undergraduate students\, community members and older people. The 2019/2020 series focuses on exploring the following research themes: Aging & Place; Perspectives on Indigenous Aging and Health; Policy\, Practice\, and the Life Course; Diversity and Inequality; Technology and Aging\, Economics and Aging.
URL:https://hamiltonagingtogether.ca/event/seminar-series-gilbrea-centre-march/
LOCATION:McMaster University | Main Campus | L.R. Wilson Hall | Room 1003\, Hamilton\, Ontario\, Canada
CATEGORIES:Aging,Caregiving,Community,Seminar
ATTACH;FMTTYPE=image/jpeg:https://hamiltonagingtogether.ca/wp-content/uploads/2019/12/march-seminar-series.jpg
END:VEVENT
BEGIN:VEVENT
DTSTART;TZID=UTC:20200326T190000
DTEND;TZID=UTC:20200326T210000
DTSTAMP:20260421T033453
CREATED:20200131T041650Z
LAST-MODIFIED:20200131T041650Z
UID:4257-1585249200-1585256400@hamiltonagingtogether.ca
SUMMARY:Earth Body Soul Series – Aging with Spirit
DESCRIPTION:Date: Thursdays\, March 26th\nTime: 7:00pm – 9:00pm\nLocation: Grace Lutheran Church\,107 Main St W\, Hamilton \nSponsor: Hamilton Aging in Community \nFacilitators: Ellen Ryan & Loretta Jaunzarins \nAging with Spirit Book Club – Participants each receive 10 minutes to present to a small group on a book or article they have been reading recently about Aging with Spirit. A few minutes is allowed for discussion of each presentation. \nThis series consists of events on three dates: March 26th\, April 23rd and May 28th. \nContact Loretta Jaunzarins\, 905-527-0877 or info.glchamilton@gmail.com
URL:https://hamiltonagingtogether.ca/event/earth-body-soul-series-aging-with-spirit-march/
LOCATION:Grace Lutheran Church\, 1107 Main St West\, Hamilton\, On\, L8S 1B8\, Canada
CATEGORIES:Aging,Community
ATTACH;FMTTYPE=image/jpeg:https://hamiltonagingtogether.ca/wp-content/uploads/2020/01/book.jpg
END:VEVENT
END:VCALENDAR