BEGIN:VCALENDAR
VERSION:2.0
PRODID:-//Hamilton Aging in Community - ECPv6.15.20//NONSGML v1.0//EN
CALSCALE:GREGORIAN
METHOD:PUBLISH
X-WR-CALNAME:Hamilton Aging in Community
X-ORIGINAL-URL:https://hamiltonagingtogether.ca
X-WR-CALDESC:Events for Hamilton Aging in Community
REFRESH-INTERVAL;VALUE=DURATION:PT1H
X-Robots-Tag:noindex
X-PUBLISHED-TTL:PT1H
BEGIN:VTIMEZONE
TZID:UTC
BEGIN:STANDARD
TZOFFSETFROM:+0000
TZOFFSETTO:+0000
TZNAME:UTC
DTSTART:20190101T000000
END:STANDARD
END:VTIMEZONE
BEGIN:VEVENT
DTSTART;TZID=UTC:20200425T110000
DTEND;TZID=UTC:20200425T123000
DTSTAMP:20260421T014809
CREATED:20200414T173348Z
LAST-MODIFIED:20200414T173348Z
UID:4534-1587812400-1587817800@hamiltonagingtogether.ca
SUMMARY:Cohousing Hamilton Online Meeting
DESCRIPTION:Since the beginning of January 2020\, Cohousing Hamilton has continued to build a foundation and is currently looking for others to join and be part of the design and development process. With the roadmap outlined with our consultants\, Cohousing Options Canada\, along with the dedication and enthusiasm of our group\, we truly are on the path to creating the first cohousing community in Hamilton. \nEach of our members plays a role and will continue to be part of this dynamic process\, ensuring the final product is a place we will all be happy to call home. Somewhere we can age in place with resilience\, joy\, anticipation and humour\, benefitting from a rich built-in social network and mutual support system. \nWe’ll be hosting an Online Coffee and Conversation gathering on Saturday\, April 25 at 11:00 a.m via Zoom for anyone who would like to find out more about Cohousing in Hamilton or has questions about cohousing in general. \nFor more information\, or if you’d like to be part of the Online Coffee and Conversation on April 25\, please contact Judy Shepalo at cohousinghamilton@gmail.com or call 905-517-6494.
URL:https://hamiltonagingtogether.ca/event/cohousing-hamilton-online-meeting/
LOCATION:Online
CATEGORIES:Aging,Community,Housing,Intergenerational
ATTACH;FMTTYPE=image/jpeg:https://hamiltonagingtogether.ca/wp-content/uploads/2020/04/vintage-1149558_1280.jpg
ORGANIZER;CN="Cohousing Hamilton":MAILTO:cohousinghamilton@gmail.com
END:VEVENT
END:VCALENDAR