BEGIN:VCALENDAR
VERSION:2.0
PRODID:-//Hamilton Aging in Community - ECPv6.15.20//NONSGML v1.0//EN
CALSCALE:GREGORIAN
METHOD:PUBLISH
X-WR-CALNAME:Hamilton Aging in Community
X-ORIGINAL-URL:https://hamiltonagingtogether.ca
X-WR-CALDESC:Events for Hamilton Aging in Community
REFRESH-INTERVAL;VALUE=DURATION:PT1H
X-Robots-Tag:noindex
X-PUBLISHED-TTL:PT1H
BEGIN:VTIMEZONE
TZID:UTC
BEGIN:STANDARD
TZOFFSETFROM:+0000
TZOFFSETTO:+0000
TZNAME:UTC
DTSTART:20190101T000000
END:STANDARD
END:VTIMEZONE
BEGIN:VEVENT
DTSTART;TZID=UTC:20201105T140000
DTEND;TZID=UTC:20201105T153000
DTSTAMP:20260420T134105
CREATED:20201023T170445Z
LAST-MODIFIED:20201023T170445Z
UID:4872-1604584800-1604590200@hamiltonagingtogether.ca
SUMMARY:Resilient Aging and Healthy Housing (4-week course) #3 of 4
DESCRIPTION:A workshop with four sessions designed to help maturing adults have the conversations necessary to successfully become conscious of the issues common to growing older. Participants will learn about the many advantages of living in a supportive community such as cohousing and can decide if aging in community is right for them. \nKey concepts discussed will include interdependence\, compassionate communication\, reciprocal support\, social cohesion\, the environmental and economic impact of cohousing\, the risk of taking charge or doing nothing at all and recognition that we do not outgrow our need for others. \nEach session (Oct 22nd\, Oct 29th\, Nov 5\, & Nov 12) will take place through HPL online on Thursdays from 2:00 to 3:30 pm. \nTo register for the first session\, please click here. \nHamilton Public Library card required
URL:https://hamiltonagingtogether.ca/event/resilient-aging-and-healthy-housing-4-week-course-3-of-4/
LOCATION:Hamilton Public Library Virtual Branch
CATEGORIES:Aging,Community,Housing
ATTACH;FMTTYPE=image/jpeg:https://hamiltonagingtogether.ca/wp-content/uploads/2020/10/lauren-mancke-aOC7TSLb1o8-unsplash-scaled.jpg
END:VEVENT
BEGIN:VEVENT
DTSTART;TZID=UTC:20201126T183000
DTEND;TZID=UTC:20201126T200000
DTSTAMP:20260420T134105
CREATED:20201114T164838Z
LAST-MODIFIED:20201114T171452Z
UID:4942-1606415400-1606420800@hamiltonagingtogether.ca
SUMMARY:Coffee & Cohousing
DESCRIPTION:Join us on Thursday\, November 26 from 6:30-8:00 pm for Coffee and Cohousing\, a monthly informal chat hosted by Cohousing Hamilton. \nTo register for Zoom Link\, please contact Judy Shepalo at 905-517-6494 or cohousinghamilton@gmail.com.
URL:https://hamiltonagingtogether.ca/event/coffee-cohousing/
LOCATION:Online
CATEGORIES:Community,Housing
ATTACH;FMTTYPE=image/jpeg:https://hamiltonagingtogether.ca/wp-content/uploads/2020/11/emre-gencer-NZMeJsrMC8U-unsplash-scaled.jpg
END:VEVENT
END:VCALENDAR