BEGIN:VCALENDAR
VERSION:2.0
PRODID:-//Hamilton Aging in Community - ECPv6.15.20//NONSGML v1.0//EN
CALSCALE:GREGORIAN
METHOD:PUBLISH
X-WR-CALNAME:Hamilton Aging in Community
X-ORIGINAL-URL:https://hamiltonagingtogether.ca
X-WR-CALDESC:Events for Hamilton Aging in Community
REFRESH-INTERVAL;VALUE=DURATION:PT1H
X-Robots-Tag:noindex
X-PUBLISHED-TTL:PT1H
BEGIN:VTIMEZONE
TZID:UTC
BEGIN:STANDARD
TZOFFSETFROM:+0000
TZOFFSETTO:+0000
TZNAME:UTC
DTSTART:20190101T000000
END:STANDARD
END:VTIMEZONE
BEGIN:VEVENT
DTSTART;TZID=UTC:20201205T103000
DTEND;TZID=UTC:20201205T123000
DTSTAMP:20260420T120542
CREATED:20201114T170057Z
LAST-MODIFIED:20201114T170209Z
UID:4945-1607164200-1607171400@hamiltonagingtogether.ca
SUMMARY:Cohousing 101 – Introductory Webinar
DESCRIPTION:When: Saturday\, December 5\, 10:30am – 12:30pm \nJoin us for an introduction to cohousing and learn how it addresses social isolation\, affordability issues\, sustainability\, co-care and more. We will also be presenting the cohousing community that is forming in Hamilton and discussing what intergenerational cohousing looks like. \nCohousing allows you to enjoy the best of both worlds\, where you can choose the balance between privacy and community that’s right for you. Enjoy new friends\, new skills and improved health in a setting that combines a sense of connection\, cooperation\nand mutual support. The modern version of cohousing was formed in Denmark in the mid-1960s. Since then it has been transformed into a worldwide phenomenon. \nThis webinar is repeated a few times a year. Attendees at earlier sessions should check the website Cohousing Hamilton for other information and opportunities to become involved. \nTo register for Zoom Link\, please contact Judy Shepalo at 905-517-6494 or cohousinghamilton@gmail.com.
URL:https://hamiltonagingtogether.ca/event/cohousing-101-webinar-2/
LOCATION:Online
CATEGORIES:Housing,Seminar
ATTACH;FMTTYPE=image/jpeg:https://hamiltonagingtogether.ca/wp-content/uploads/2020/11/j-kelly-brito-PeUJyoylfe4-unsplash-scaled.jpg
END:VEVENT
END:VCALENDAR