BEGIN:VCALENDAR
VERSION:2.0
PRODID:-//Hamilton Aging in Community - ECPv6.15.20//NONSGML v1.0//EN
CALSCALE:GREGORIAN
METHOD:PUBLISH
X-ORIGINAL-URL:https://hamiltonagingtogether.ca
X-WR-CALDESC:Events for Hamilton Aging in Community
REFRESH-INTERVAL;VALUE=DURATION:PT1H
X-Robots-Tag:noindex
X-PUBLISHED-TTL:PT1H
BEGIN:VTIMEZONE
TZID:UTC
BEGIN:STANDARD
TZOFFSETFROM:+0000
TZOFFSETTO:+0000
TZNAME:UTC
DTSTART:20200101T000000
END:STANDARD
END:VTIMEZONE
BEGIN:VEVENT
DTSTART;TZID=UTC:20210128T163000
DTEND;TZID=UTC:20210128T180000
DTSTAMP:20260420T102838
CREATED:20210112T194807Z
LAST-MODIFIED:20210112T194807Z
UID:5048-1611851400-1611856800@hamiltonagingtogether.ca
SUMMARY:MIKE AND CITY: Students and Seniors Learning about Hamilton’s History through Photography
DESCRIPTION:Date: Thursday\, January 28\, 4:30-6:00 pm \nHere’s an opportunity to ‘get out’ and explore Hamilton. \nLocal Urban Explorer and Photographer Mike Heinhold will share his photography of little known locations in Hamilton’s downtown and tell us the history behind them. \nThis event is the first of three monthly shows\, in which Mike will feature our city Hamilton for an intergenerational audience of seniors and Mac first years who have not even arrived yet in Hamilton – they are only online at McMaster. \nTo register for the Zoom link\, Contact Loretta Jaunzarins\,  info.glchamilton@gmail.com
URL:https://hamiltonagingtogether.ca/event/learning-hamiltons-history-through-photography/
LOCATION:Online
CATEGORIES:Community,Intergenerational,Seminar
ATTACH;FMTTYPE=image/jpeg:https://hamiltonagingtogether.ca/wp-content/uploads/2021/01/william-thomas-ny6tO4ItOEY-unsplash-scaled.jpg
END:VEVENT
END:VCALENDAR